BEGIN:VCALENDAR
VERSION:2.0
PRODID:icalendar-ruby
CALSCALE:GREGORIAN
METHOD:PUBLISH
BEGIN:VEVENT
DTSTAMP:20260425T220755Z
UID:5-503598@neelysbendbaptist.org
DTSTART:20250615T150000Z
DTEND:20250615T160000Z
CLASS:PUBLIC
CREATED:20260425T145219
DESCRIPTION:Sunday Worship
LAST-MODIFIED:20260425T145219
LOCATION:
SUMMARY:Sunday Worship
URL;VALUE=URI:https://www.neelysbendbaptist.org/events/sunday-worship/2025-
 06-15
END:VEVENT
END:VCALENDAR
